BEGIN:VCALENDAR
VERSION:2.0
PRODID:-//Darien Park District - ECPv6.15.20//NONSGML v1.0//EN
CALSCALE:GREGORIAN
METHOD:PUBLISH
X-WR-CALNAME:Darien Park District
X-ORIGINAL-URL:https://www.darienparks.com
X-WR-CALDESC:Events for Darien Park District
REFRESH-INTERVAL;VALUE=DURATION:PT1H
X-Robots-Tag:noindex
X-PUBLISHED-TTL:PT1H
BEGIN:VTIMEZONE
TZID:America/Chicago
BEGIN:DAYLIGHT
TZOFFSETFROM:-0600
TZOFFSETTO:-0500
TZNAME:CDT
DTSTART:20250309T080000
END:DAYLIGHT
BEGIN:STANDARD
TZOFFSETFROM:-0500
TZOFFSETTO:-0600
TZNAME:CST
DTSTART:20251102T070000
END:STANDARD
BEGIN:DAYLIGHT
TZOFFSETFROM:-0600
TZOFFSETTO:-0500
TZNAME:CDT
DTSTART:20260308T080000
END:DAYLIGHT
BEGIN:STANDARD
TZOFFSETFROM:-0500
TZOFFSETTO:-0600
TZNAME:CST
DTSTART:20261101T070000
END:STANDARD
BEGIN:DAYLIGHT
TZOFFSETFROM:-0600
TZOFFSETTO:-0500
TZNAME:CDT
DTSTART:20270314T080000
END:DAYLIGHT
BEGIN:STANDARD
TZOFFSETFROM:-0500
TZOFFSETTO:-0600
TZNAME:CST
DTSTART:20271107T070000
END:STANDARD
END:VTIMEZONE
BEGIN:VEVENT
DTSTART;TZID=America/Chicago:20260807T123000
DTEND;TZID=America/Chicago:20260807T133000
DTSTAMP:20260425T063014
CREATED:20220111T215139Z
LAST-MODIFIED:20260323T195051Z
UID:4116-1786105800-1786109400@www.darienparks.com
SUMMARY:Bingo
DESCRIPTION:It’s all fun and games until someone yells BINGO! Come socialize\, play and win prizes! Light refreshments will be served. \nThis program is FREE but registration is required. \nAges: 50+\nMore Information\nOnline Registration
URL:https://www.darienparks.com/event/bingo/
LOCATION:Darien Park District Community Center\, 7301 Fairview Ave\, Darien\, IL\, 60561
CATEGORIES:Special Events
END:VEVENT
BEGIN:VEVENT
DTSTART;TZID=America/Chicago:20260810T183000
DTEND;TZID=America/Chicago:20260810T193000
DTSTAMP:20260425T063014
CREATED:20251111T203526Z
LAST-MODIFIED:20251111T203526Z
UID:10435-1786386600-1786390200@www.darienparks.com
SUMMARY:August Board Meeting 8/10/26
DESCRIPTION:The Darien Park District monthly board meeting will be held on Monday\, August 10th at 6:30pm. This meeting is being held at the Darien Park District Community Center\, 7301 Fairview Ave.
URL:https://www.darienparks.com/event/august-board-meeting-8-10-26/
LOCATION:Darien Park District Community Center\, 7301 Fairview Ave\, Darien\, IL\, 60561
CATEGORIES:Board Meetings
END:VEVENT
BEGIN:VEVENT
DTSTART;TZID=America/Chicago:20260827T173000
DTEND;TZID=America/Chicago:20260827T190000
DTSTAMP:20260425T063014
CREATED:20240410T180023Z
LAST-MODIFIED:20260323T181343Z
UID:7530-1787851800-1787857200@www.darienparks.com
SUMMARY:Back to school BASH
DESCRIPTION:Is your child headed to preschool this fall at the Darien Park District First Step Preschool? Then\, this is the event for your preschooler and you! Lots of fun with crafts\, games\, playground fun\, and a special treat. This is a great way for you and your preschooler to meet other preschool families and our preschool staff. \nPreschool Families Only!\nThis program is FREE but registration is required.\nRegistration Deadline: 8/21 \nMore Information\nOnline Registration
URL:https://www.darienparks.com/event/back-to-school-bash/
LOCATION:Darien Park District Community Center\, 7301 Fairview Ave\, Darien\, IL\, 60561
CATEGORIES:Special Events
END:VEVENT
END:VCALENDAR