BEGIN:VCALENDAR
VERSION:2.0
PRODID:-//Darien Park District - ECPv6.15.20//NONSGML v1.0//EN
CALSCALE:GREGORIAN
METHOD:PUBLISH
X-ORIGINAL-URL:https://www.darienparks.com
X-WR-CALDESC:Events for Darien Park District
REFRESH-INTERVAL;VALUE=DURATION:PT1H
X-Robots-Tag:noindex
X-PUBLISHED-TTL:PT1H
BEGIN:VTIMEZONE
TZID:America/Chicago
BEGIN:DAYLIGHT
TZOFFSETFROM:-0600
TZOFFSETTO:-0500
TZNAME:CDT
DTSTART:20250309T080000
END:DAYLIGHT
BEGIN:STANDARD
TZOFFSETFROM:-0500
TZOFFSETTO:-0600
TZNAME:CST
DTSTART:20251102T070000
END:STANDARD
BEGIN:DAYLIGHT
TZOFFSETFROM:-0600
TZOFFSETTO:-0500
TZNAME:CDT
DTSTART:20260308T080000
END:DAYLIGHT
BEGIN:STANDARD
TZOFFSETFROM:-0500
TZOFFSETTO:-0600
TZNAME:CST
DTSTART:20261101T070000
END:STANDARD
BEGIN:DAYLIGHT
TZOFFSETFROM:-0600
TZOFFSETTO:-0500
TZNAME:CDT
DTSTART:20270314T080000
END:DAYLIGHT
BEGIN:STANDARD
TZOFFSETFROM:-0500
TZOFFSETTO:-0600
TZNAME:CST
DTSTART:20271107T070000
END:STANDARD
END:VTIMEZONE
BEGIN:VEVENT
DTSTART;TZID=America/Chicago:20260508T173000
DTEND;TZID=America/Chicago:20260508T190000
DTSTAMP:20260421T100845
CREATED:20221129T205601Z
LAST-MODIFIED:20251118T160202Z
UID:5413-1778261400-1778266800@www.darienparks.com
SUMMARY:Family Fun Night
DESCRIPTION:School is almost OUT! Come celebrate with us and have some family fun to kick off your summer. \nInflatables • Obstacle Courses • Crafts • Games • Activities • Food \nRegistration is required for everyone who is attending.\nMore Information\nOnline Registration
URL:https://www.darienparks.com/event/schools-almost-out-family-fun-night/
LOCATION:Darien Park District Community Center\, 7301 Fairview Ave\, Darien\, IL\, 60561
CATEGORIES:Special Events
END:VEVENT
BEGIN:VEVENT
DTSTART;TZID=America/Chicago:20260511T183000
DTEND;TZID=America/Chicago:20260511T193000
DTSTAMP:20260421T100845
CREATED:20251111T202653Z
LAST-MODIFIED:20251111T202747Z
UID:10428-1778524200-1778527800@www.darienparks.com
SUMMARY:May Board Meeting 5/11/26
DESCRIPTION:The Darien Park District monthly board meeting will be held on Monday\, May 11th at 6:30pm. This meeting is being held at the Darien Park District Community Center\, 7301 Fairview Ave.
URL:https://www.darienparks.com/event/may-board-meeting-5-11-26/
LOCATION:Darien Park District Community Center\, 7301 Fairview Ave\, Darien\, IL\, 60561
CATEGORIES:Board Meetings
END:VEVENT
END:VCALENDAR