BEGIN:VCALENDAR
VERSION:2.0
PRODID:-//Darien Park District - ECPv6.15.20//NONSGML v1.0//EN
CALSCALE:GREGORIAN
METHOD:PUBLISH
X-ORIGINAL-URL:https://www.darienparks.com
X-WR-CALDESC:Events for Darien Park District
REFRESH-INTERVAL;VALUE=DURATION:PT1H
X-Robots-Tag:noindex
X-PUBLISHED-TTL:PT1H
BEGIN:VTIMEZONE
TZID:America/Chicago
BEGIN:DAYLIGHT
TZOFFSETFROM:-0600
TZOFFSETTO:-0500
TZNAME:CDT
DTSTART:20250309T080000
END:DAYLIGHT
BEGIN:STANDARD
TZOFFSETFROM:-0500
TZOFFSETTO:-0600
TZNAME:CST
DTSTART:20251102T070000
END:STANDARD
BEGIN:DAYLIGHT
TZOFFSETFROM:-0600
TZOFFSETTO:-0500
TZNAME:CDT
DTSTART:20260308T080000
END:DAYLIGHT
BEGIN:STANDARD
TZOFFSETFROM:-0500
TZOFFSETTO:-0600
TZNAME:CST
DTSTART:20261101T070000
END:STANDARD
BEGIN:DAYLIGHT
TZOFFSETFROM:-0600
TZOFFSETTO:-0500
TZNAME:CDT
DTSTART:20270314T080000
END:DAYLIGHT
BEGIN:STANDARD
TZOFFSETFROM:-0500
TZOFFSETTO:-0600
TZNAME:CST
DTSTART:20271107T070000
END:STANDARD
END:VTIMEZONE
BEGIN:VEVENT
DTSTART;TZID=America/Chicago:20260307T090000
DTEND;TZID=America/Chicago:20260307T140000
DTSTAMP:20260421T100922
CREATED:20220201T212644Z
LAST-MODIFIED:20251118T161201Z
UID:4214-1772874000-1772892000@www.darienparks.com
SUMMARY:Spring Craft Show
DESCRIPTION:The Darien Park District invites you to join in and sell or just stop by and shop at our annual Spring Craft Show. If you are crafty\, this is the perfect opportunity to show off your talent. All work must be original and handmade by the vendor. ALL SPACES ARE (8×10) AND INCLUDE A SIX FOOT TABLE AND 2 CHAIRS. If you would like electricity\, there will be an additional fee of $10. \nFor further information please contact Amanda Derrico at aderrico@darienparks.com \nAdmission: FREE \nMore Information
URL:https://www.darienparks.com/event/spring-craft-show/
LOCATION:Darien Park District Community Center\, 7301 Fairview Ave\, Darien\, IL\, 60561
CATEGORIES:Special Events
END:VEVENT
BEGIN:VEVENT
DTSTART;TZID=America/Chicago:20260309T180000
DTEND;TZID=America/Chicago:20260309T183000
DTSTAMP:20260421T100922
CREATED:20201209T171205Z
LAST-MODIFIED:20260304T190905Z
UID:1976-1773079200-1773081000@www.darienparks.com
SUMMARY:March Committee Meeting 3/9/26
DESCRIPTION:The Budget Committee meeting will be held on Monday\, March 9th\, 2026 at 6:00pm. This meeting is being held at the Darien Park District Community Center\, 7301 Fairview Ave.\nMeeting Agenda
URL:https://www.darienparks.com/event/february-committee-meeting/
LOCATION:Darien Park District Community Center\, 7301 Fairview Ave\, Darien\, IL\, 60561
CATEGORIES:Board Meetings
END:VEVENT
BEGIN:VEVENT
DTSTART;TZID=America/Chicago:20260309T183000
DTEND;TZID=America/Chicago:20260309T193000
DTSTAMP:20260421T100922
CREATED:20231204T183427Z
LAST-MODIFIED:20260304T191302Z
UID:7032-1773081000-1773084600@www.darienparks.com
SUMMARY:March Board Meeting 3/9/26
DESCRIPTION:The Darien Park District monthly board meeting will be held on Monday\, March 9th. This meeting is being held at the Darien Park District Community Center\, 7301 Fairview Ave.\nMeeting Agenda\nNotes:\n– Committee meeting starts at 6pm\n– Board meeting – immediately following Committee meeting
URL:https://www.darienparks.com/event/december-board-meeting-2/
LOCATION:Darien Park District Community Center\, 7301 Fairview Ave\, Darien\, IL\, 60561
CATEGORIES:Board Meetings
END:VEVENT
BEGIN:VEVENT
DTSTART;TZID=America/Chicago:20260328T085000
DTEND;TZID=America/Chicago:20260328T091000
DTSTAMP:20260421T100922
CREATED:20221129T204441Z
LAST-MODIFIED:20251118T163326Z
UID:5405-1774687800-1774689000@www.darienparks.com
SUMMARY:Egg Hunt
DESCRIPTION:Mr. Easter Bunny will be leaving eggs for all Darien children age 2-9. Don’t forget to bring a bag to collect your eggs in! \nSaturday\, March 28 at 9:00am SHARP!\nDarien Community Park (Plainfield & Clarendon Hills Road) and Westwood Park (75th and Fairview) \nA special thanks goes to the Darien Lions Club members that come out to help at each park location. Your assistance is greatly appreciated! \nMore Information
URL:https://www.darienparks.com/event/egg-hunt/
LOCATION:Darien Park District Community Park\, 7100 Clarendon Hills Road\, Darien\, IL\, 60561
CATEGORIES:Special Events
END:VEVENT
BEGIN:VEVENT
DTSTART;TZID=America/Chicago:20260328T093000
DTEND;TZID=America/Chicago:20260328T103000
DTSTAMP:20260421T100922
CREATED:20221129T203623Z
LAST-MODIFIED:20251118T160735Z
UID:5401-1774690200-1774693800@www.darienparks.com
SUMMARY:The Bunny BASH
DESCRIPTION:HOP on over to the Community Center as soon as you are done with one of our egg hunts for egg-citing games\, crafts\, and to take your picture with the Easter Bunny! \nRefreshments will be served for you to nibble on. Space is limited and reservations must be made in advance. Activities are provided for children ages 2-9. \nAges: All ages\nAll family members attending must have a reservation! \nMore Information\nOnline Registration
URL:https://www.darienparks.com/event/the-bunny-bash/
LOCATION:Darien Park District Community Center\, 7301 Fairview Ave\, Darien\, IL\, 60561
CATEGORIES:Special Events
END:VEVENT
END:VCALENDAR