BEGIN:VCALENDAR
VERSION:2.0
PRODID:-//Darien Park District - ECPv6.15.20//NONSGML v1.0//EN
CALSCALE:GREGORIAN
METHOD:PUBLISH
X-WR-CALNAME:Darien Park District
X-ORIGINAL-URL:https://www.darienparks.com
X-WR-CALDESC:Events for Darien Park District
REFRESH-INTERVAL;VALUE=DURATION:PT1H
X-Robots-Tag:noindex
X-PUBLISHED-TTL:PT1H
BEGIN:VTIMEZONE
TZID:America/Chicago
BEGIN:DAYLIGHT
TZOFFSETFROM:-0600
TZOFFSETTO:-0500
TZNAME:CDT
DTSTART:20250309T080000
END:DAYLIGHT
BEGIN:STANDARD
TZOFFSETFROM:-0500
TZOFFSETTO:-0600
TZNAME:CST
DTSTART:20251102T070000
END:STANDARD
BEGIN:DAYLIGHT
TZOFFSETFROM:-0600
TZOFFSETTO:-0500
TZNAME:CDT
DTSTART:20260308T080000
END:DAYLIGHT
BEGIN:STANDARD
TZOFFSETFROM:-0500
TZOFFSETTO:-0600
TZNAME:CST
DTSTART:20261101T070000
END:STANDARD
BEGIN:DAYLIGHT
TZOFFSETFROM:-0600
TZOFFSETTO:-0500
TZNAME:CDT
DTSTART:20270314T080000
END:DAYLIGHT
BEGIN:STANDARD
TZOFFSETFROM:-0500
TZOFFSETTO:-0600
TZNAME:CST
DTSTART:20271107T070000
END:STANDARD
END:VTIMEZONE
BEGIN:VEVENT
DTSTART;TZID=America/Chicago:20260110T100000
DTEND;TZID=America/Chicago:20260110T110000
DTSTAMP:20260424T043156
CREATED:20211208T171839Z
LAST-MODIFIED:20251118T162605Z
UID:3996-1768039200-1768042800@www.darienparks.com
SUMMARY:Grandma & Me Snowflake Tea
DESCRIPTION:Calling all Grandmas\, Nanas\, (or what other distinguished title you go by). You are cordially invited to a special Grandma and Me Snowflake Tea. Bring your grandchild for a special morning of fun. We will enjoy snacks\, tea and together we will make a craft. \nAges: 4 and up with an adult\nThis event is for grandmas and children only. Please no parents allowed! \nMore Information\nOnline Registration
URL:https://www.darienparks.com/event/grandma-me-snowflake-tea/
LOCATION:Darien Park District Community Center\, 7301 Fairview Ave\, Darien\, IL\, 60561
CATEGORIES:Special Events
END:VEVENT
BEGIN:VEVENT
DTSTART;TZID=America/Chicago:20260112T180000
DTEND;TZID=America/Chicago:20260112T190000
DTSTAMP:20260424T043156
CREATED:20250602T181732Z
LAST-MODIFIED:20260107T165320Z
UID:9757-1768240800-1768244400@www.darienparks.com
SUMMARY:Special Meeting
DESCRIPTION:Special meeting – Darien Park District Board/City of Darien Committee of the whole\nMeeting Agenda
URL:https://www.darienparks.com/event/committee-of-the-whole-meeting/
LOCATION:Darien Park District Community Center\, 7301 Fairview Ave\, Darien\, IL\, 60561
CATEGORIES:Board Meetings
END:VEVENT
BEGIN:VEVENT
DTSTART;TZID=America/Chicago:20260130T173000
DTEND;TZID=America/Chicago:20260130T190000
DTSTAMP:20260424T043156
CREATED:20211208T172150Z
LAST-MODIFIED:20251118T162313Z
UID:3999-1769794200-1769799600@www.darienparks.com
SUMMARY:Ultimate Princess Party
DESCRIPTION:Hear Ye! Hear Ye! All princesses in the Kingdom of Darien are cordially invited to attend an Ultimate Princess Party! \nAll of our little princesses will make a craft to commemorate the event and enjoy a royal treat. Of course\, a party would not be a party without dancing! We will end the night with a freeze dance with the royal princesses. \nAll princesses must be pre-registered and accompanied by an adult. Adults do not need to register. Feel free to come dressed as your favorite Princess! \nAges: 2 & up\nRegistration for CHILDREN ONLY! \nMore Information\nOnline Registration
URL:https://www.darienparks.com/event/ultimate-princess-party/
LOCATION:Darien Park District Community Center\, 7301 Fairview Ave\, Darien\, IL\, 60561
CATEGORIES:Special Events
END:VEVENT
END:VCALENDAR