BEGIN:VCALENDAR
VERSION:2.0
PRODID:-//Darien Park District - ECPv6.15.20//NONSGML v1.0//EN
CALSCALE:GREGORIAN
METHOD:PUBLISH
X-ORIGINAL-URL:https://www.darienparks.com
X-WR-CALDESC:Events for Darien Park District
REFRESH-INTERVAL;VALUE=DURATION:PT1H
X-Robots-Tag:noindex
X-PUBLISHED-TTL:PT1H
BEGIN:VTIMEZONE
TZID:America/Chicago
BEGIN:DAYLIGHT
TZOFFSETFROM:-0600
TZOFFSETTO:-0500
TZNAME:CDT
DTSTART:20240310T080000
END:DAYLIGHT
BEGIN:STANDARD
TZOFFSETFROM:-0500
TZOFFSETTO:-0600
TZNAME:CST
DTSTART:20241103T070000
END:STANDARD
BEGIN:DAYLIGHT
TZOFFSETFROM:-0600
TZOFFSETTO:-0500
TZNAME:CDT
DTSTART:20250309T080000
END:DAYLIGHT
BEGIN:STANDARD
TZOFFSETFROM:-0500
TZOFFSETTO:-0600
TZNAME:CST
DTSTART:20251102T070000
END:STANDARD
BEGIN:DAYLIGHT
TZOFFSETFROM:-0600
TZOFFSETTO:-0500
TZNAME:CDT
DTSTART:20260308T080000
END:DAYLIGHT
BEGIN:STANDARD
TZOFFSETFROM:-0500
TZOFFSETTO:-0600
TZNAME:CST
DTSTART:20261101T070000
END:STANDARD
END:VTIMEZONE
BEGIN:VEVENT
DTSTART;TZID=America/Chicago:20251205T180000
DTEND;TZID=America/Chicago:20251205T193000
DTSTAMP:20260424T055644
CREATED:20220111T214822Z
LAST-MODIFIED:20250826T202053Z
UID:4114-1764957600-1764963000@www.darienparks.com
SUMMARY:Winter Holiday Celebration in the Park
DESCRIPTION:Bundle up and join us at Community Park to celebrate the holiday season! We will have everything you’ll need to get you into the holiday spirit. Enjoy the lights\, and holiday entertainment while you sip on a warm beverage and enjoy a sweet treat. If you are really good\, you may even get to see a special visitor from the North Pole! \nGet Ready to Have Some Winter Fun! \nRegistration not required.
URL:https://www.darienparks.com/event/holiday-celebration/
LOCATION:Darien Park District Community Park\, 7100 Clarendon Hills Road\, Darien\, IL\, 60561
CATEGORIES:Special Events
END:VEVENT
BEGIN:VEVENT
DTSTART;TZID=America/Chicago:20251208T183000
DTEND;TZID=America/Chicago:20251208T193000
DTSTAMP:20260424T055644
CREATED:20210401T195018Z
LAST-MODIFIED:20251201T180928Z
UID:2787-1765218600-1765222200@www.darienparks.com
SUMMARY:December Board Meeting
DESCRIPTION:The Darien Park District monthly board meeting will be held on Monday\, December 8th at 6:30pm. This meeting is being held at the Darien Park District Community Center\, 7301 Fairview Ave.\nMeeting Agenda
URL:https://www.darienparks.com/event/december-board-meeting/
LOCATION:Darien Park District Community Center\, 7301 Fairview Ave\, Darien\, IL\, 60561
CATEGORIES:Board Meetings
END:VEVENT
BEGIN:VEVENT
DTSTART;TZID=America/Chicago:20251209T123000
DTEND;TZID=America/Chicago:20251209T140000
DTSTAMP:20260424T055644
CREATED:20210805T193857Z
LAST-MODIFIED:20250825T183359Z
UID:3521-1765283400-1765288800@www.darienparks.com
SUMMARY:Holiday Luncheon
DESCRIPTION:A present for all of our Darien Resident Seniors\, come and celebrate the holidays with us! Enjoy a hot catered lunch\, and the wonderful entertainment from the Del Bergeson Orchestra on us! \nSign up early as space is limited! No registration available at the event. \nDarien Residents Only. This is a free event\, but registration is required. \nMore Information\nOnline Registration
URL:https://www.darienparks.com/event/holiday-luncheon/
LOCATION:Darien Park District Community Center\, 7301 Fairview Ave\, Darien\, IL\, 60561
CATEGORIES:Special Events
END:VEVENT
BEGIN:VEVENT
DTSTART;TZID=America/Chicago:20251219T180000
DTEND;TZID=America/Chicago:20251219T190000
DTSTAMP:20260424T055644
CREATED:20210805T194259Z
LAST-MODIFIED:20250826T202302Z
UID:3524-1766167200-1766170800@www.darienparks.com
SUMMARY:Pizza with Santa
DESCRIPTION:Did you know that next to cookies & milk\, Santa’s favorite food to eat is PIZZA!!! So we decided to invite Santa to join us for a pizza party & we want you to be there too! Besides having pizza & a beverage\, we will make a craft and play some games. Weather permitting we will have a candy cane hunt outside at the end of the event so dress warm & bring your flashlight.  \n– Children age 2 & up and Adults MUST pre-register.\n– Children MUST BE ACCOMPANIED BY AN ADULT.\n– Activities are provided for children ages 2-9. \nEVERYONE IN ATTENDANCE MUST REGISTER! \nMore Information\nOnline Registration
URL:https://www.darienparks.com/event/pizza-with-santa/
LOCATION:Darien Park District Community Center\, 7301 Fairview Ave\, Darien\, IL\, 60561
CATEGORIES:Special Events
END:VEVENT
END:VCALENDAR