BEGIN:VCALENDAR
VERSION:2.0
PRODID:-//Darien Park District - ECPv6.15.20//NONSGML v1.0//EN
CALSCALE:GREGORIAN
METHOD:PUBLISH
X-ORIGINAL-URL:https://www.darienparks.com
X-WR-CALDESC:Events for Darien Park District
REFRESH-INTERVAL;VALUE=DURATION:PT1H
X-Robots-Tag:noindex
X-PUBLISHED-TTL:PT1H
BEGIN:VTIMEZONE
TZID:America/Chicago
BEGIN:DAYLIGHT
TZOFFSETFROM:-0600
TZOFFSETTO:-0500
TZNAME:CDT
DTSTART:20240310T080000
END:DAYLIGHT
BEGIN:STANDARD
TZOFFSETFROM:-0500
TZOFFSETTO:-0600
TZNAME:CST
DTSTART:20241103T070000
END:STANDARD
BEGIN:DAYLIGHT
TZOFFSETFROM:-0600
TZOFFSETTO:-0500
TZNAME:CDT
DTSTART:20250309T080000
END:DAYLIGHT
BEGIN:STANDARD
TZOFFSETFROM:-0500
TZOFFSETTO:-0600
TZNAME:CST
DTSTART:20251102T070000
END:STANDARD
BEGIN:DAYLIGHT
TZOFFSETFROM:-0600
TZOFFSETTO:-0500
TZNAME:CDT
DTSTART:20260308T080000
END:DAYLIGHT
BEGIN:STANDARD
TZOFFSETFROM:-0500
TZOFFSETTO:-0600
TZNAME:CST
DTSTART:20261101T070000
END:STANDARD
END:VTIMEZONE
BEGIN:VEVENT
DTSTART;TZID=America/Chicago:20251110T183000
DTEND;TZID=America/Chicago:20251110T200000
DTSTAMP:20260424T071347
CREATED:20210401T194824Z
LAST-MODIFIED:20251106T164409Z
UID:2785-1762799400-1762804800@www.darienparks.com
SUMMARY:November Board Meeting
DESCRIPTION:The Darien Park District monthly board meeting will be held on Monday\, November 10th at 6:30pm. This meeting is being held at the Darien Park District Community Center\, 7301 Fairview Ave.\nSpecial Meeting Notice\, Public Hearing Notice\, and Board Meeting Agenda
URL:https://www.darienparks.com/event/november-board-meeting/
LOCATION:Darien Park District Community Center\, 7301 Fairview Ave\, Darien\, IL\, 60561
CATEGORIES:Board Meetings
END:VEVENT
BEGIN:VEVENT
DTSTART;TZID=America/Chicago:20251115T090000
DTEND;TZID=America/Chicago:20251115T150000
DTSTAMP:20260424T071347
CREATED:20210805T193417Z
LAST-MODIFIED:20250826T201730Z
UID:3512-1763197200-1763218800@www.darienparks.com
SUMMARY:A Dicken’s of a Holiday Craft Show
DESCRIPTION:Calling all craft enthusiasts! The Darien Park District announces their annual holiday craft show and sale. If you love to craft\, this is the perfect opportunity to show off your talent. All work must be original and handmade BY THE VENDOR. No import items\, wholesale\, resale\, or flea market items. Any vendor exhibiting these items will be dismissed from the show. All spaces are 10’x8’ and include a 6 foot table and 2 chairs. There will be an additional fee of $10 if electricity is required. \nThis holiday craft show and sale will be the perfect place to find unique\, one-of-a-kind\, handcrafted holiday gifts and will offer something for everyone. \nMore information
URL:https://www.darienparks.com/event/a-dickens-of-a-holiday-craft-show/
LOCATION:Darien Park District Community Center\, 7301 Fairview Ave\, Darien\, IL\, 60561
CATEGORIES:Special Events
END:VEVENT
END:VCALENDAR