BEGIN:VCALENDAR
VERSION:2.0
PRODID:-//Darien Park District - ECPv6.15.20//NONSGML v1.0//EN
CALSCALE:GREGORIAN
METHOD:PUBLISH
X-ORIGINAL-URL:https://www.darienparks.com
X-WR-CALDESC:Events for Darien Park District
REFRESH-INTERVAL;VALUE=DURATION:PT1H
X-Robots-Tag:noindex
X-PUBLISHED-TTL:PT1H
BEGIN:VTIMEZONE
TZID:America/Chicago
BEGIN:DAYLIGHT
TZOFFSETFROM:-0600
TZOFFSETTO:-0500
TZNAME:CDT
DTSTART:20250309T080000
END:DAYLIGHT
BEGIN:STANDARD
TZOFFSETFROM:-0500
TZOFFSETTO:-0600
TZNAME:CST
DTSTART:20251102T070000
END:STANDARD
BEGIN:DAYLIGHT
TZOFFSETFROM:-0600
TZOFFSETTO:-0500
TZNAME:CDT
DTSTART:20260308T080000
END:DAYLIGHT
BEGIN:STANDARD
TZOFFSETFROM:-0500
TZOFFSETTO:-0600
TZNAME:CST
DTSTART:20261101T070000
END:STANDARD
BEGIN:DAYLIGHT
TZOFFSETFROM:-0600
TZOFFSETTO:-0500
TZNAME:CDT
DTSTART:20270314T080000
END:DAYLIGHT
BEGIN:STANDARD
TZOFFSETFROM:-0500
TZOFFSETTO:-0600
TZNAME:CST
DTSTART:20271107T070000
END:STANDARD
END:VTIMEZONE
BEGIN:VEVENT
DTSTART;TZID=America/Chicago:20260716T190000
DTEND;TZID=America/Chicago:20260716T220000
DTSTAMP:20260425T063258
CREATED:20210105T203106Z
LAST-MODIFIED:20260323T182932Z
UID:2265-1784228400-1784239200@www.darienparks.com
SUMMARY:Movies in the Park #3 - ZooTopia 2
DESCRIPTION:Bring a blanket or your favorite low-rise lawn chair and join your neighbors for a FREE movie at a park near you! \n\nAll movies start at dusk\, concessions available for purchases\nPlease check our website for weather related updates\n\nDetectives Judy Hopps and Nick Wilde find themselves on the twisting trail of a mysterious reptile who turns the mammal metropolis of Zootopia upside down. Testing their growing partnership like never before\, they go undercover in new parts of town to crack the case. \nMore Information
URL:https://www.darienparks.com/event/summer-movies-1/
LOCATION:Darien Park District Community Park\, 7100 Clarendon Hills Road\, Darien\, IL\, 60561
CATEGORIES:Special Events
END:VEVENT
END:VCALENDAR