BEGIN:VCALENDAR
VERSION:2.0
PRODID:-//Darien Park District - ECPv6.15.20//NONSGML v1.0//EN
CALSCALE:GREGORIAN
METHOD:PUBLISH
X-ORIGINAL-URL:https://www.darienparks.com
X-WR-CALDESC:Events for Darien Park District
REFRESH-INTERVAL;VALUE=DURATION:PT1H
X-Robots-Tag:noindex
X-PUBLISHED-TTL:PT1H
BEGIN:VTIMEZONE
TZID:America/Chicago
BEGIN:DAYLIGHT
TZOFFSETFROM:-0600
TZOFFSETTO:-0500
TZNAME:CDT
DTSTART:20240310T080000
END:DAYLIGHT
BEGIN:STANDARD
TZOFFSETFROM:-0500
TZOFFSETTO:-0600
TZNAME:CST
DTSTART:20241103T070000
END:STANDARD
BEGIN:DAYLIGHT
TZOFFSETFROM:-0600
TZOFFSETTO:-0500
TZNAME:CDT
DTSTART:20250309T080000
END:DAYLIGHT
BEGIN:STANDARD
TZOFFSETFROM:-0500
TZOFFSETTO:-0600
TZNAME:CST
DTSTART:20251102T070000
END:STANDARD
BEGIN:DAYLIGHT
TZOFFSETFROM:-0600
TZOFFSETTO:-0500
TZNAME:CDT
DTSTART:20260308T080000
END:DAYLIGHT
BEGIN:STANDARD
TZOFFSETFROM:-0500
TZOFFSETTO:-0600
TZNAME:CST
DTSTART:20261101T070000
END:STANDARD
END:VTIMEZONE
BEGIN:VEVENT
DTSTART;TZID=America/Chicago:20251209T123000
DTEND;TZID=America/Chicago:20251209T140000
DTSTAMP:20260424T071347
CREATED:20210805T193857Z
LAST-MODIFIED:20250825T183359Z
UID:3521-1765283400-1765288800@www.darienparks.com
SUMMARY:Holiday Luncheon
DESCRIPTION:A present for all of our Darien Resident Seniors\, come and celebrate the holidays with us! Enjoy a hot catered lunch\, and the wonderful entertainment from the Del Bergeson Orchestra on us! \nSign up early as space is limited! No registration available at the event. \nDarien Residents Only. This is a free event\, but registration is required. \nMore Information\nOnline Registration
URL:https://www.darienparks.com/event/holiday-luncheon/
LOCATION:Darien Park District Community Center\, 7301 Fairview Ave\, Darien\, IL\, 60561
CATEGORIES:Special Events
END:VEVENT
END:VCALENDAR